BEGIN:VCALENDAR
VERSION:2.0
PRODID:-//TYPO3/NONSGML News system (news)//EN
BEGIN:VEVENT
UID:news-133573@voelkerrecht.uni-graz.at
DTSTAMP:20260420T085441Z
DTSTART:20260528T150000Z
DTEND:20260528T150000Z
SUMMARY:GILDS-Diskussion mit Frau Prof. Neha Jain, Northwestern University Pritzker School of Law
END:VEVENT
END:VCALENDAR
